Workbook
Name Slicer_Status: #N/A
Name Slicer_Status1: #N/A

Sheet Guidelines
B17: This file contains three specific planning tools to complete the supplementary information required when submitting a proposal for Readiness Programme support (including for Objetive 3. Aptation planning):
B18: - Budget plan and accompany Budget notes - Procurement and HR plan - Implementation plan
B20: The following considerations are important when completing the budget:
B21: 1. Before preparing the Readiness and budget, procurement and HR, and implementation plans, please read the full guidance contained in the Readiness Programme Guidebook, specifically Part IV Sections 5 and 6
B22: 2. You can select the appropriate budget categories from the dropdown list in the budget plan:
B23: 3. To insert additional rows, right click on the row number below where you wish to insert the new row and choose INSERT.
B24: 4. Additional budget categories may be added by manually typing them on the Budget Category sheet:
B25: 5. The Budget Notes sheet should be used to record explanations, further details or cost breakdowns for individual lines
B28: Project Management Cost:
B29: Project management costs (PMC) are the direct administrative costs incurred to execute a grant. They should cover only incremental costs incurred due to the GCF contribution. In most cases, these costs are directly related to the support of a dedicated project management unit which manages the day to day execution related activities of the grant.
B31: General Principles for PMC costs:
B32: 1. The percentage of PMC financed by GCF should not be more than the percentage share of the overall budget financed by GCF
... B37: > Indicative list of eligible project management costs:
C38: > Project staffing and consultants: Project manager, Project Assistant, Procurement personnel, Finance personnel & Support/admin. Personnel
C39: > Other direct costs: Office equipment, Mission related travel cost of the PMU, Project management systems and information technology,
C40: Office supplies, Audit cost
B42: Contingency :
B43: 1. Select the appropriate % of Contingency Budget from the dropdown list :
B44: 2. Contingency budget for unforeseen costs arising during the grant implementation should not be included in the outcome budget separately.
B45: 3. Contingency budget must be used for any unforeseen programme (output level) cost that is unrelated to implementation/service fee.
B46: 4. Any use of contingency must be reported to and agreed by the GCF Secretariat in writing in advance provided with justifications that are acceptable to the GCF.
B47: 5. If by the end of the grant implementation period, you have not spent Contingency, you may not increase the scope of the project or make any other expenditures using the Contingency.
B50: If you are unsure about how to complete the budget template, please send your query to: countries@gcfund.org

Sheet Budget Category
A1: Budget Categories
A2: Audio Visual & Printing
A3: Audit Fee
A4: Consultant - Individual - International
A5: Consultant - Individual - Local
A6: Professional Services – Companies/Firm
A7: IT Equipment
A8: Office Supplies
A9: Travel - International
A10: Travel – Local
A11: Workshop/Training
A12: Services to Project | B12: Indicate additional budget categories
A13: Contractual Services- Individual
A14: Miscellaneous
A15: IT Equipment
A19: Choose percentage
A20: 0
A21: 0.01
A22: 0.02
A23: 0.03

Sheet 6.1 Budget Plan
A1: 6.1 Budget Plan
A3: Please add rows for Outcomes, Outputs and Cost Categories as required. Additional budget categories may be added by manually typing them on the Budget Category sheet.
A5: Objectives/Outcomes / Outputs | D5: Detailed Budget (in US$) | J5: Total Budget (per outcome) | K5: Expenditure Plan | O5: Executing Entity | P5: Budget notes
D6: Budget Categories choose from the drop-down list | E6: Unit | F6: # of Unit | G6: Unit Cost | H6: Total Budget (per budget category) | I6: Total Budget (per sub-outcome) | K6: Year 1 | L6: Year 2 | M6: Year 3 | N6: Year 4
A8: Objective 3: National Adaptation Plans and Adaptation Planning Processes | B8: Outcome 3.1 - Adaptation planning governance and institutional coordination strengthened | C8: Output 3.1.1 - National, sub-national and/or sectoral adaptation plans developed or updated | D8: Professional Services – Companies/Firm | E8: Lumpsum | F8: 1 | G8: 160000 | H8: =G8*F8 -> 160000 | I8: =SUM(H8:H12) -> 210144 | J8: =I8+I13+I16+I23 -> 1153144 | K8: =H8 -> 160000 | L8: 0 | M8: 0 | N8: 0 | O8: UNDP | P8: A
D9: Workshop/Training | E9: Event | F9: 5 | G9: 5000 | H9: =G9*F9 -> 25000 | K9: 25000 | L9: 0 | M9: 0 | N9: 0 | O9: UNDP | P9: B
D10: Miscellaneous | E10: Annual | F10: 4 | G10: 1486 | H10: =G10*F10 -> 5944 | K10: 1486 | L10: 1486 | M10: 1486 | N10: 1486 | O10: UNDP | P10: AM
D11: Contractual Services- Individual | E11: Month | F11: 9 | G11: 1800 | H11: =G11*F11 -> 16200 | K11: =$H$11/4 -> 4050 | L11: =$H$11/4 -> 4050 | M11: =$H$11/4 -> 4050 | N11: =$H$11/4 -> 4050 | O11: UNDP | P11: AI
D12: Travel - International | E12: Trip | F12: 1 | G12: 3000 | H12: =G12*F12 -> 3000 | K12: 3000 | L12: 0 | M12: 0 | N12: 0 | O12: UNDP | P12: C
C13: Output 3.1.2 - Adaptation policy and/or regulations developed or strengthened for integrating adaptation actions/measures in sectoral, subnational and national development strategies and plans | D13: Professional Services – Companies/Firm | E13: Lumpsum | F13: 1 | G13: 140000 | H13: =G13*F13 -> 140000 | I13: =SUM(H13:H15) -> 168000 | K13: =H13 -> 140000 | L13: 0 | M13: 0 | N13: 0 | O13: UNDP | P13: D
D14: Workshop/Training | E14: Event | F14: 5 | G14: 5000 | H14: =G14*F14 -> 25000 | K14: 25000 | L14: 0 | M14: 0 | N14: 0 | O14: UNDP | P14: E
D15: Travel - International | E15: Event | F15: 1 | G15: 3000 | H15: =G15*F15 -> 3000 | K15: =H15 -> 3000 | L15: 0 | M15: 0 | N15: 0 | O15: UNDP | P15: G
C16: Output 3.1.3 - Inter and intra institutional coordination and decision-making mechanisms established or strengthened | D16: Professional Services – Companies/Firm | E16: Lumpsum | F16: 1 | G16: 140000 | H16: =G16*F16 -> 140000 | I16: =SUM(H16:H22) -> 369500 | K16: 80000 | L16: 60000 | M16: 0 | N16: 0 | O16: UNDP | P16: H
D17: Consultant - Individual - Local | E17: W/M | F17: 48 | G17: 2000 | H17: =G17*F17 -> 96000 | K17: 24000 | L17: 24000 | M17: 24000 | N17: 24000 | O17: UNDP | P17: I
D18: Workshop/Training | E18: Event | F18: 1 | G18: 18750 | H18: =G18*F18 -> 18750 | K18: =H18 -> 18750 | L18: 0 | M18: 0 | N18: 0 | O18: UNDP | P18: J
D19: Workshop/Training | E19: Event | F19: 1 | G19: 15000 | H19: =G19*F19 -> 15000 | K19: =H19 -> 15000 | L19: 0 | M19: 0 | N19: 0 | O19: UNDP | P19: K
D20: Workshop/Training | E20: Event | F20: 1 | G20: 3750 | H20: =F20*G20 -> 3750 | K20: 3750 | L20: 0 | M20: 0 | N20: 0 | O20: UNDP | P20: L
D21: Workshop/Training | E21: Event | F21: 18 | G21: 5000 | H21: =F21*G21 -> 90000 | K21: 45000 | L21: 45000 | M21: - | N21: - | O21: UNDP | P21: L2
D22: Travel - International | E22: Trip | F22: 2 | G22: 3000 | H22: =G22*F22 -> 6000 | K22: 3000 | L22: 3000 | M22: 0 | N22: 0 | O22: UNDP | P22: M
C23: Output 3.1.4 - Stakeholder engagement frameworks, agreements and awareness raising conducted or strengthened | D23: Professional Services – Companies/Firm | E23: Lumpsum | F23: 1 | G23: 160000 | H23: 160000 | I23: =SUM(H23:H27) -> 405500 | K23: 0 | L23: 80000 | M23: 80000 | N23: 0 | O23: UNDP | P23: N
D24: Consultant - Individual - Local | E24: W/M | F24: 36 | G24: 3000 | H24: =G24*F24 -> 108000 | K24: 0 | L24: 36000 | M24: 36000 | N24: 36000 | O24: UNDP | P24: O
D25: Workshop/Training | E25: Event | F25: 10 | G25: 3750 | H25: =G25*F25 -> 37500 | K25: 0 | L25: 25000 | N25: 12500 | O25: UNDP | P25: P
D26: Workshop/Training | E26: Event | F26: 10 | G26: 5000 | H26: =G26*F26 -> 50000 | K26: 0 | L26: 25000 | M26: 25000 | N26: 0 | O26: UNDP | P26: Q
D27: Workshop/Training | E27: Event | F27: 10 | G27: 5000 | H27: =G27*F27 -> 50000 | K27: 0 | L27: 25000 | M27: 25000 | N27: 0 | O27: UNDP | P27: R
B28: Outcome 3.2 - Evidence produced to design adaptation solutions for maximum impact | C28: Output 3.2.1 - Adaptation impact monitoring, evaluation and learning systems established or strengthened for strategic planning and investment | D28: Professional Services – Companies/Firm | E28: Lumpsum | F28: 1 | G28: 120000 | H28: =G28*F28 -> 120000 | I28: =SUM(H28:H32) -> 185644 | J28: =I28+I33 -> 386588 | K28: 0 | L28: 120000 | M28: 0 | N28: 0 | O28: UNDP | P28: S
D29: Consultant - Individual - Local | E29: W/M | F29: 12 | G29: 3000 | H29: =G29*F29 -> 36000 | K29: 0 | L29: 36000 | M29: 0 | N29: 0 | O29: UNDP | P29: U
D30: Miscellaneous | E30: Annual | F30: 4 | G30: 1486 | H30: =G30*F30 -> 5944 | K30: 1486 | L30: 1486 | M30: 1486 | N30: 1486 | O30: UNDP | P30: AM
D31: Workshop/Training | E31: Events | F31: 1 | G31: 7500 | H31: =G31*F31 -> 7500 | K31: 0 | L31: 7500 | M31: 0 | N31: 0 | O31: UNDP | P31: V
D32: Contractual Services- Individual | E32: Month | F32: 9 | G32: 1800 | H32: =G32*F32 -> 16200 | K32: =$H$11/4 -> 4050 | L32: =$H$11/4 -> 4050 | M32: =$H$11/4 -> 4050 | N32: =$H$11/4 -> 4050 | O32: UNDP | P32: AI
C33: Output 3.2.2 - Studies on climate vulnerability, and identification of adaptation solutions conducted (and used) for strengthening adaptation investment | D33: Professional Services – Companies/Firm | E33: Lumpsum | F33: 1 | G33: 195000 | H33: =G33*F33 -> 195000 | I33: =H33+H34 -> 200944 | K33: 0 | L33: 0 | M33: 195000 | N33: 0 | O33: UNDP | P33: W
D34: Miscellaneous | E34: Annual | F34: 4 | G34: 1486 | H34: =G34*F34 -> 5944 | J34: =SUM(I35:I39) -> 322450 | K34: 1486 | L34: 1486 | M34: 1486 | N34: 1486 | O34: UNDP | P34: AM
B35: Outcome 3.3 - Private sector engagement in adaptation catalized | C35: Output 3.3.1 - Strategies, policies, and incentives developed to foster private investment in adaptation solutions | D35: Professional Services – Companies/Firm | E35: Lumpsum | F35: 1 | G35: 110000 | H35: =G35*F35 -> 110000 | I35: =SUM(H35:H36) -> 128750 | K35: - | L35: - | M35: 110000 | N35: - | O35: UNDP | P35: W1
D36: Workshop/Training | E36: Event | F36: 5 | G36: 3750 | H36: =G36*F36 -> 18750 | K36: - | L36: - | M36: =H36 -> 18750 | N36: - | O36: UNDP | P36: W2
C37: Output 3.3.3 - Capacity building provided to the private sector on adaptation options | D37: Professional Services – Companies/Firm | E37: Lumpsum | F37: 1 | G37: 140000 | H37: =G37*F37 -> 140000 | I37: =SUM(H37:H39) -> 193700 | K37: 0 | L37: 0 | M37: 100000 | N37: 40000 | O37: UNDP | P37: Z
D38: Workshop/Training | E38: Event | F38: 10 | G38: 3750 | H38: =G38*F38 -> 37500 | K38: 0 | L38: 0 | M38: 12500 | N38: 25000 | O38: UNDP | P38: AA
D39: Contractual Services- Individual | E39: Monthly | F39: 9 | G39: 1800 | H39: =G39*F39 -> 16200 | K39: =$H$11/4 -> 4050 | L39: =$H$11/4 -> 4050 | M39: =$H$11/4 -> 4050 | N39: =$H$11/4 -> 4050 | O39: UNDP | P39: AI
B40: Outcome 3.4 - Adaptation finance increased | C40: Output 3.4.1 - Mechanisms established to prioritize adaptation options based on objective criteria | D40: Professional Services – Companies/Firm | E40: Lumpsum | F40: 1 | G40: 120000 | H40: =G40*F40 -> 120000 | I40: =SUM(H40:H43) -> 167144 | J40: =I40+I44 -> 296394 | K40: 0 | L40: 0 | M40: 100000 | N40: 20000 | O40: UNDP | P40: AB
D41: Contractual Services- Individual | E41: Monthly | F41: 9 | G41: 1800 | H41: =G41*F41 -> 16200 | K41: =$H$11/4 -> 4050 | L41: =$H$11/4 -> 4050 | M41: =$H$11/4 -> 4050 | N41: =$H$11/4 -> 4050 | O41: UNDP | P41: AI
D42: Miscellaneous | E42: Annual | F42: 4 | G42: 1486 | H42: =G42*F42 -> 5944 | K42: 1486 | L42: 1486 | M42: 1486 | N42: 1486 | O42: UNDP | P42: AM
D43: Workshop/Training | E43: Event | F43: 5 | G43: 5000 | H43: =G43*F43 -> 25000 | K43: 0 | L43: 0 | M43: 15000 | N43: 10000 | O43: UNDP | P43: AC
...

Sheet Budget Notes
A1: Budget Notes
A3: Please check out the example in the table below, and remove them before including the proposal's entries
A5: Budget Note | B5: Detailed Description
A6: A | B6: Professional services - Firm (Consulting Company 1 – Sectoral Planning and Adaptation Framework Consulting Company): to engage a firm for USD 160,000 lumpsum to implement activity 3.1.1 (Sub-activity 3.1.1a, Sub-activity 3.1.1b, Sub-activity 3.1.1c) to lead the review and update of adaptation planning frameworks, develop five sector-specific adaptation plans aligned with the NAP and LAPs, and integrate them into a cohesive national framework. All outputs will be evidence-based, participatory, and aligned with Mozambique’s climate resilience goals. The company will also coordinate with other project firms to ensure alignment and consistency across all activities. This lumpsum amount includes 5 sectoral review workshops.
A7: B | B7: Five one-day workshops for discussing sectorial vulnerabilities (Sub-activity 3.1.1b - consultations on sector-specific vulnerabilities) estimated at USD5,000 per event to include venue and catering for 25 persons (USD200/person).
A8: C | B8: Travel of the International Consultant (Team Leader proposed by the Consulting Company 1 - Sub-activity 3.1.1a, Sub-activity 3.1.1b, Sub-activity 3.1.1c) to attend stakeholder consultations. @1500 USD ticket cost and @1500 USD per diem for 6 overnight stays (6*250, 3,000 USD total).
A9: D | B9: Professional services - Firm (Consulting Company 2 – Policy and Regulatory Alignment Consulting Company): to engage a firm for USD 140,000 lumpsum to implement activity 3.1.2 (Sub-activity 3.1.2a, Sub-activity 3.1.2b, Sub-activity 3.1.2c, Sub-activity 3.1.2d, Sub-activity 3.1.2e) To lead the review of sectoral policies, identify gaps, and propose amendments to strengthen climate resilience integration in Mozambique’s planning systems. The company will facilitate 5 sectoral workshops, each with around 40 participants, to validate amendments and create a Policy Operationalization Toolkit for sectoral agencies. It will also organize 5 targeted training sessions for public officials and experts on climate-adaptive policies. Coordination with other project firms will ensure alignment across planning, policy, and stakeholder engagement activities.
A10: E | B10: Five one-day workshops for discussing sectorial policy allighnment options (Sub-activity 3.1.2b) estimated at USD5,000 per event to include venue and catering for 40 persons (USD125/person).
A12: G | B12: Travel of the International Consultant (Team Leader proposed by the Consulting Company 2 - Sub-activity 3.1.2a, Sub-activity 3.1.2b, Sub-activity 3.1.2c, Sub-activity 3.1.2d, Sub-activity 3.1.2e) to attend stakeholder consultations. @1500 USD ticket cost and @1500 USD per diem for 6 overnight stays (6*250 USD, 3,000USD total).
A13: H | B13: Professional services - Firm (Consulting Company 4 – Institutional Governance and Coordination Consulting Company): to engage a firm for USD 140,000 lumpsum to implement activity 3.1.3 (Sub-activity 3.1.3a, Sub-activity 3.1.3b, Sub-activity 3.1.3c, Sub-activity 3.1.3d, Sub-activity 3.1.3e) to strengthen Mozambique’s climate adaptation governance by formalizing the GIIMC’s mandate, establishing sectoral working groups, and creating a national decision-making framework. The company will conduct needs assessments, provide capacity-building through targeted trainings, and facilitate the creation of 5 sector-specific working groups. It will also organize 8 biannual GIIMC meetings and 10 sectoral workshops to promote cross-sectoral communication and learning. Coordination with other project firms will ensure alignment and complementarity across all activities. Trainings and workshops under 3.1.3a, 3.1.3b 3.1.3d, and 3.1.3e will be held in Maputo and engage only national stakeholders
A14: I | B14: Consultant – Individual - Local: Institutional Coordination Coordinator (Sub-activity 3.1.3a, Sub-activity 3.1.3b, Sub-activity 3.1.3c, Sub-activity 3.1.3d, Sub-activity 3.1.3e) @ 2,000 USD per month for 48 months to supervise and coordinate activities of the Consulting Company 4 and carry out follow up facilitation activities until completion of the project.
A15: J | B15: One five-days training on effective adaptation coordination (Sub-activity 3.1.3a) estimated at USD18,750 per event to include venue and catering for 30 persons (USD125/person/day). This activity will be held in Maputo and will engage only national-level stakeholders.
A16: K | B16: One three-day trainings for members of GIIMC (Sub-activity 3.1.3b) estimated at USD15,000 per event to include venue and catering for 40 persons (USD125/person). This activity will be held in Maputo and will engage only national-level stakeholders.
A17: L | B17: 1 one-day training on Decision-Making Framework and operational coordination (Sub-activity 3.1.3d) at USD3,750 per event to include venue and catering for 30 persons (USD125/person). This activity will be held in Maputo and will engage only national-level stakeholders.
... A44: AO | B44: Cost of office supplies budgeted at USD 2,100 per annum

Sheet Guidlines for Procurement Plan
B17: The following considerations are important when completing the Procurement Plan:
B18: 1. Before preparing the Readiness and budget, procurement and HR, and implementation plans, please read the full guidance contained in the Readiness Programme Guidebook, specifically Part IV Sections 5 and 6
B19: 2. Please start populating information on planned procurement items next to dedicated rows titled 'Planned'. Utilize slicer buttons at the top of the worksheet to easily filter out rows dedicated to planned items.
B20: 3. Please Specify Item and Item Description under Column C.
B21: 4. Choose the appropriate Procurement categories from the dropdown list available in the Procurement plan under column D.
B22: 5. Specify the Estimated cost of the Item under Column E.
B23: 6. Populate the applicable Procurement Method (e.g., open, limited RFP, ITB, RFQ) in Column G. Ensure alignment with the thresholds (Min-Max monetary value for the indicated procurement method) outlined in Column H, in accordance with the applicable procurement policy.
B24: 7. In Column I, specify the name of the Entity executing Procurement (DP/EE, etc.).
B25: 8. Indicate estimated timelines under Columns J and K.
B26: 9. The Procurement Plan Template provides twenty (20) dedicated rows. To insert additional rows, right-click on the row number below where the new row is desired and select INSERT. When inserting new rows, allocate three rows for each item (Planned, Revised1, Actual) and extend existing dropdown menus or other formulas.
B27: 10. Utilize Column L, labeled "Remarks," to record explanations, additional details, or any other pertinent information as needed.
B28: The following considerations are important when completing the Change Request impacting the Procurement Plan:
... B45: If you are unsure about how to complete the Procurement Plan template, please send your query to: countries@gcfund.org

Sheet 6.2 Procurement Plan
A1: 6.2 Procurement Plan
A2: For goods, services, and consultancies to be procured, please list the items, descriptions in relation to the activities in Section 3, estimated cost, procurement method, relevant threshold, and the estimated dates. Please provide a full procurement plan for the entire duration of the implementation period.
A3: Procurement Plan Approval Date:
A4: Please check out the example in the table below, and remove the items before including the proposal's entries. At the proposal submision stage, please populate the raws dedicated to planned items.
A6: No | B6: Status | C6: Item Description | D6: Category | E6: Estimated Cost (US$) | F6: Current Estimated Cost (please indicate latest estimated/actual cost) | G6: Procurement Method (e.g. open, limited RFP,ITB,RFQ) | H6: Thresholds as per applicable procurement policy (Min-Max monetary value for which indicated procurement method must be used) | I6: Name of Entity executing Procurement (DP/EE, etc.) | J6: Date of initiating procurement (Tender Issuence) | K6: Estimated contract start date | L6: Remarks
A7: 1 | B7: Planned | C7: Consulting Company 1 – Sectorial vulnerability assessment | D7: Consulting Services (Professional Firms) | E7: 160000 | G7: Open tender | H7: USD 150,000 and above | I7: UNDP | J7: 45901 | K7: 45992 | L7: Budget Note A
A8: 1 | B8: Revised1
A9: 1 | B9: Actual
A10: =A7+1 -> 2 | B10: Planned | C10: Consulting Company 2 – Sectorial Policies’ Adjustment | D10: Consulting Services (Professional Firms) | E10: 140000 | G10: Open tender | H10: USD 10,000 to 150,000 | I10: UNDP | J10: 45901 | K10: 45992 | L10: Budget Note D
A11: =A8+1 -> 2 | B11: Revised1
A12: =A9+1 -> 2 | B12: Actual
A13: =A10+1 -> 3 | B13: Planned | C13: Consulting Company 3 – Institutional coordination and decision making | D13: Consulting Services (Professional Firms) | E13: 160000 | G13: Open tender | H13: USD 10,000 to 150,000 | I13: UNDP | J13: 45901 | K13: 45992 | L13: Budget Note N
A14: =A11+1 -> 3 | B14: Revised1
A15: =A12+1 -> 3 | B15: Actual
A16: =A13+1 -> 4 | B16: Planned | C16: Consulting Company 4 – Public awareness raising | D16: Consulting Services (Professional Firms) | E16: 140000 | G16: Open tender | H16: USD 10,000 to 150,000 | I16: UNDP | J16: 46266 | K16: 46357 | L16: Budget Note H
A17: =A14+1 -> 4 | B17: Revised1
A18: =A15+1 -> 4 | B18: Actual
A19: =A16+1 -> 5 | B19: Planned | C19: Consulting Company 5 – Adaptation indicators development | D19: Consulting Services (Professional Firms) | E19: 120000 | G19: Open tender | H19: USD 10,000 to 150,000 | I19: UNDP | J19: 46266 | K19: 46357 | L19: Budget Note S
A20: =A17+1 -> 5
A21: =A18+1 -> 5
A22: =A19+1 -> 6 | B22: Planned | C22: Consulting Company 6 – Climate change vulnerability assessment | D22: Consulting Services (Professional Firms) | E22: 195000 | G22: Open tender | H22: USD 10,000 to 150,000 | I22: UNDP | J22: 46266 | K22: 46357 | L22: Budget Note W
A23: =A20+1 -> 6 | B23: Revised1
A24: =A21+1 -> 6 | B24: Actual
A25: =A22+1 -> 7 | B25: Planned | C25: Consulting Company 7 – Private sector finance | D25: Consulting Services (Professional Firms) | E25: 110000 | G25: Open tender | H25: USD 10,000 to 150,000 | I25: UNDP | J25: 46631 | K25: 46722 | L25: Budget Note W1
A26: =A23+1 -> 7 | B26: Revised1
A27: =A24+1 -> 7 | B27: Actual
A28: =A25+1 -> 8 | B28: Planned | C28: Consulting Company 8 – Private sector capacity building | D28: Consulting Services (Professional Firms) | E28: 140000 | G28: Open tender | H28: USD 10,000 to 150,000 | I28: UNDP | J28: 46631 | K28: 46722 | L28: Budget Note Z
A29: =A26+1 -> 8 | B29: Revised1
A30: =A27+1 -> 8 | B30: Actual
A31: =A28+1 -> 9 | B31: Planned | C31: Consulting Company 9 – Adaptation prioritization | D31: Consulting Services (Professional Firms) | E31: 120000 | G31: Open tender | H31: USD 10,000 to 150,000 | I31: UNDP | J31: 46631 | K31: 46722 | L31: Budget Note AB
A32: =A29+1 -> 9 | B32: Revised1
A33: =A30+1 -> 9 | B33: Actual
A34: =A31+1 -> 10 | B34: Planned | C34: Audit Company | D34: Consulting Services (Professional Firms) | E34: 16000 | G34: Open tender | H34: USD 10,000 and above | I34: UNDP | J34: 45901 | K34: 45992 | L34: Budget Note AL
A35: =A32+1 -> 10 | B35: Revised1
A36: =A33+1 -> 10 | B36: Actual
A37: =A34+1 -> 11 | B37: Planned | C37: Institutional Coordination and Capacity Enhancement Coordinator | D37: Consulting Services (Individual Consultants) | E37: 96000 | G37: Open tender | H37: USD 10,000 and above | I37: UNDP | J37: 45901 | K37: 45992 | L37: Budget Note I
A38: =A35+1 -> 11 | B38: Revised1
A39: =A36+1 -> 11 | B39: Actual
A40: =A37+1 -> 12 | B40: Planned | C40: Community Engagement and Awareness Raising Expert | D40: Consulting Services (Individual Consultants) | E40: 108000 | G40: Open tender | H40: USD 150,000 and above | I40: UNDP | J40: 45901 | K40: 45992 | L40: Budget Note O
A41: =A38+1 -> 12 | B41: Revised1
...

Sheet 6.2.1 Procurement Plan Revision
A1: 6.2 Procurement Plan
A2: For goods, services, and consultancies to be procured, please list the items, descriptions in relation to the activities in Section 3, estimated cost, procurement method, relevant threshold, and the estimated dates. Please provide a full procurement plan for the entire duration of the implementation period.
A3: Procurement Plan Approval Date:
A4: Please check out the example in the table below, and remove the items before including the proposal's entries. At the proposal submision stage, please populate the raws dedicated to planned items.
A6: No | B6: Status | C6: Item Description | D6: Category | E6: Estimated Cost (US$) | F6: Current Estimated Cost (please indicate latest estimated/actual cost) | G6: Procurement Method (e.g. open, limited RFP,ITB,RFQ) | H6: Thresholds as per applicable procurement policy (Min-Max monetary value for which indicated procurement method must be used) | I6: Name of Entity executing Procurement (DP/EE, etc.) | J6: Date of initiating procurement (Tender Issuence) | K6: Estimated contract start date | L6: Remarks
A7: =Table3[[#This Row],[No]] -> 1 | B7: =Table3[[#This Row],[Status]] -> Planned | C7: =Table3[[#This Row],[Item Description ]] -> Consulting Company 1 – Sectorial vulnerability assessment | D7: =Table3[[#This Row],[Category ]] -> Consulting Services (Professional Firms) | E7: =Table3[[#This Row],[Estimated Cost (US$)]] -> 160000 | F7: =Table3[[#This Row],[Current Estimated Cost (please indicate latest estimated/actual cost) ]] -> 0 | G7: =Table3[[#This Row],[Procurement Method (e.g. open, limited RFP,ITB,RFQ) ]] -> Open tender | H7: =Table3[[#This Row],[Thresholds as per applicable procurement policy (Min-Max monetary value for which indicated procurement method must be used)]] -> USD 150,000 and above | I7: =Table3[[#This Row],[Name of Entity executing Procurement (DP/EE, etc.) ]] -> UNDP | J7: =Table3[[#This Row],[Date of initiating procurement (Tender Issuence) ]] -> 45901 | K7: =Table3[[#This Row],[Estimated contract start date]] -> 45992 | L7: =Table3[[#This Row],[Remarks]] -> Budget Note A
A8: =Table3[[#This Row],[No]] -> 1 | B8: =Table3[[#This Row],[Status]] -> Revised1
A9: =Table3[[#This Row],[No]] -> 1 | B9: =Table3[[#This Row],[Status]] -> Actual
A10: =Table3[[#This Row],[No]] -> 2 | B10: =Table3[[#This Row],[Status]] -> Planned | C10: =Table3[[#This Row],[Item Description ]] -> Consulting Company 2 – Sectorial Policies’ Adjustment | D10: =Table3[[#This Row],[Category ]] -> Consulting Services (Professional Firms) | E10: =Table3[[#This Row],[Estimated Cost (US$)]] -> 140000 | F10: =Table3[[#This Row],[Current Estimated Cost (please indicate latest estimated/actual cost) ]] -> 0 | G10: =Table3[[#This Row],[Procurement Method (e.g. open, limited RFP,ITB,RFQ) ]] -> Open tender | H10: =Table3[[#This Row],[Thresholds as per applicable procurement policy (Min-Max monetary value for which indicated procurement method must be used)]] -> USD 10,000 to 150,000 | I10: =Table3[[#This Row],[Name of Entity executing Procurement (DP/EE, etc.) ]] -> UNDP | J10: =Table3[[#This Row],[Date of initiating procurement (Tender Issuence) ]] -> 45901 | K10: =Table3[[#This Row],[Estimated contract start date]] -> 45992 | L10: =Table3[[#This Row],[Remarks]] -> Budget Note D
A11: =Table3[[#This Row],[No]] -> 2 | B11: =Table3[[#This Row],[Status]] -> Revised1
A12: =Table3[[#This Row],[No]] -> 2 | B12: =Table3[[#This Row],[Status]] -> Actual
A13: =Table3[[#This Row],[No]] -> 3 | B13: =Table3[[#This Row],[Status]] -> Planned | C13: =Table3[[#This Row],[Item Description ]] -> Consulting Company 3 – Institutional coordination and decision making | D13: =Table3[[#This Row],[Category ]] -> Consulting Services (Professional Firms) | E13: =Table3[[#This Row],[Estimated Cost (US$)]] -> 160000 | F13: =Table3[[#This Row],[Current Estimated Cost (please indicate latest estimated/actual cost) ]] -> 0 | G13: =Table3[[#This Row],[Procurement Method (e.g. open, limited RFP,ITB,RFQ) ]] -> Open tender | H13: =Table3[[#This Row],[Thresholds as per applicable procurement policy (Min-Max monetary value for which indicated procurement method must be used)]] -> USD 10,000 to 150,000 | I13: =Table3[[#This Row],[Name of Entity executing Procurement (DP/EE, etc.) ]] -> UNDP | J13: =Table3[[#This Row],[Date of initiating procurement (Tender Issuence) ]] -> 45901 | K13: =Table3[[#This Row],[Estimated contract start date]] -> 45992 | L13: =Table3[[#This Row],[Remarks]] -> Budget Note N
A14: =Table3[[#This Row],[No]] -> 3 | B14: =Table3[[#This Row],[Status]] -> Revised1
A15: =Table3[[#This Row],[No]] -> 3 | B15: =Table3[[#This Row],[Status]] -> Actual
A16: =Table3[[#This Row],[No]] -> 4 | B16: =Table3[[#This Row],[Status]] -> Planned | C16: =Table3[[#This Row],[Item Description ]] -> Consulting Company 4 – Public awareness raising | D16: =Table3[[#This Row],[Category ]] -> Consulting Services (Professional Firms) | E16: =Table3[[#This Row],[Estimated Cost (US$)]] -> 140000 | F16: =Table3[[#This Row],[Current Estimated Cost (please indicate latest estimated/actual cost) ]] -> 0 | G16: =Table3[[#This Row],[Procurement Method (e.g. open, limited RFP,ITB,RFQ) ]] -> Open tender | H16: =Table3[[#This Row],[Thresholds as per applicable procurement policy (Min-Max monetary value for which indicated procurement method must be used)]] -> USD 10,000 to 150,000 | I16: =Table3[[#This Row],[Name of Entity executing Procurement (DP/EE, etc.) ]] -> UNDP | J16: =Table3[[#This Row],[Date of initiating procurement (Tender Issuence) ]] -> 46266 | K16: =Table3[[#This Row],[Estimated contract start date]] -> 46357 | L16: =Table3[[#This Row],[Remarks]] -> Budget Note H
A17: =Table3[[#This Row],[No]] -> 4 | B17: =Table3[[#This Row],[Status]] -> Revised1
A18: =Table3[[#This Row],[No]] -> 4 | B18: =Table3[[#This Row],[Status]] -> Actual
A19: =Table3[[#This Row],[No]] -> 5 | B19: =Table3[[#This Row],[Status]] -> Planned | C19: =Table3[[#This Row],[Item Description ]] -> Consulting Company 5 – Adaptation indicators development | D19: =Table3[[#This Row],[Category ]] -> Consulting Services (Professional Firms) | E19: =Table3[[#This Row],[Estimated Cost (US$)]] -> 120000 | F19: =Table3[[#This Row],[Current Estimated Cost (please indicate latest estimated/actual cost) ]] -> 0 | G19: =Table3[[#This Row],[Procurement Method (e.g. open, limited RFP,ITB,RFQ) ]] -> Open tender | H19: =Table3[[#This Row],[Thresholds as per applicable procurement policy (Min-Max monetary value for which indicated procurement method must be used)]] -> USD 10,000 to 150,000 | I19: =Table3[[#This Row],[Name of Entity executing Procurement (DP/EE, etc.) ]] -> UNDP | J19: =Table3[[#This Row],[Date of initiating procurement (Tender Issuence) ]] -> 46266 | K19: =Table3[[#This Row],[Estimated contract start date]] -> 46357 | L19: =Table3[[#This Row],[Remarks]] -> Budget Note S
A20: =Table3[[#This Row],[No]] -> 5 | B20: =Table3[[#This Row],[Status]] -> 0
A21: =Table3[[#This Row],[No]] -> 5 | B21: =Table3[[#This Row],[Status]] -> 0
A22: =Table3[[#This Row],[No]] -> 6 | B22: =Table3[[#This Row],[Status]] -> Planned | C22: =Table3[[#This Row],[Item Description ]] -> Consulting Company 6 – Climate change vulnerability assessment | D22: =Table3[[#This Row],[Category ]] -> Consulting Services (Professional Firms) | E22: =Table3[[#This Row],[Estimated Cost (US$)]] -> 195000 | F22: =Table3[[#This Row],[Current Estimated Cost (please indicate latest estimated/actual cost) ]] -> 0 | G22: =Table3[[#This Row],[Procurement Method (e.g. open, limited RFP,ITB,RFQ) ]] -> Open tender | H22: =Table3[[#This Row],[Thresholds as per applicable procurement policy (Min-Max monetary value for which indicated procurement method must be used)]] -> USD 10,000 to 150,000 | I22: =Table3[[#This Row],[Name of Entity executing Procurement (DP/EE, etc.) ]] -> UNDP | J22: =Table3[[#This Row],[Date of initiating procurement (Tender Issuence) ]] -> 46266 | K22: =Table3[[#This Row],[Estimated contract start date]] -> 46357 | L22: =Table3[[#This Row],[Remarks]] -> Budget Note W
A23: =Table3[[#This Row],[No]] -> 6 | B23: =Table3[[#This Row],[Status]] -> Revised1
A24: =Table3[[#This Row],[No]] -> 6 | B24: =Table3[[#This Row],[Status]] -> Actual
A25: =Table3[[#This Row],[No]] -> 7 | B25: =Table3[[#This Row],[Status]] -> Planned | C25: =Table3[[#This Row],[Item Description ]] -> Consulting Company 7 – Private sector finance | D25: =Table3[[#This Row],[Category ]] -> Consulting Services (Professional Firms) | E25: =Table3[[#This Row],[Estimated Cost (US$)]] -> 110000 | F25: =Table3[[#This Row],[Current Estimated Cost (please indicate latest estimated/actual cost) ]] -> 0 | G25: =Table3[[#This Row],[Procurement Method (e.g. open, limited RFP,ITB,RFQ) ]] -> Open tender | H25: =Table3[[#This Row],[Thresholds as per applicable procurement policy (Min-Max monetary value for which indicated procurement method must be used)]] -> USD 10,000 to 150,000 | I25: =Table3[[#This Row],[Name of Entity executing Procurement (DP/EE, etc.) ]] -> UNDP | J25: =Table3[[#This Row],[Date of initiating procurement (Tender Issuence) ]] -> 46631 | K25: =Table3[[#This Row],[Estimated contract start date]] -> 46722 | L25: =Table3[[#This Row],[Remarks]] -> Budget Note W1
A26: =Table3[[#This Row],[No]] -> 7 | B26: =Table3[[#This Row],[Status]] -> Revised1
A27: =Table3[[#This Row],[No]] -> 7 | B27: =Table3[[#This Row],[Status]] -> Actual
A28: =Table3[[#This Row],[No]] -> 8 | B28: =Table3[[#This Row],[Status]] -> Planned | C28: =Table3[[#This Row],[Item Description ]] -> Consulting Company 8 – Private sector capacity building | D28: =Table3[[#This Row],[Category ]] -> Consulting Services (Professional Firms) | E28: =Table3[[#This Row],[Estimated Cost (US$)]] -> 140000 | F28: =Table3[[#This Row],[Current Estimated Cost (please indicate latest estimated/actual cost) ]] -> 0 | G28: =Table3[[#This Row],[Procurement Method (e.g. open, limited RFP,ITB,RFQ) ]] -> Open tender | H28: =Table3[[#This Row],[Thresholds as per applicable procurement policy (Min-Max monetary value for which indicated procurement method must be used)]] -> USD 10,000 to 150,000 | I28: =Table3[[#This Row],[Name of Entity executing Procurement (DP/EE, etc.) ]] -> UNDP | J28: =Table3[[#This Row],[Date of initiating procurement (Tender Issuence) ]] -> 46631 | K28: =Table3[[#This Row],[Estimated contract start date]] -> 46722 | L28: =Table3[[#This Row],[Remarks]] -> Budget Note Z
A29: =Table3[[#This Row],[No]] -> 8 | B29: =Table3[[#This Row],[Status]] -> Revised1
A30: =Table3[[#This Row],[No]] -> 8 | B30: =Table3[[#This Row],[Status]] -> Actual
A31: =Table3[[#This Row],[No]] -> 9 | B31: =Table3[[#This Row],[Status]] -> Planned | C31: =Table3[[#This Row],[Item Description ]] -> Consulting Company 9 – Adaptation prioritization | D31: =Table3[[#This Row],[Category ]] -> Consulting Services (Professional Firms) | E31: =Table3[[#This Row],[Estimated Cost (US$)]] -> 120000 | F31: =Table3[[#This Row],[Current Estimated Cost (please indicate latest estimated/actual cost) ]] -> 0 | G31: =Table3[[#This Row],[Procurement Method (e.g. open, limited RFP,ITB,RFQ) ]] -> Open tender | H31: =Table3[[#This Row],[Thresholds as per applicable procurement policy (Min-Max monetary value for which indicated procurement method must be used)]] -> USD 10,000 to 150,000 | I31: =Table3[[#This Row],[Name of Entity executing Procurement (DP/EE, etc.) ]] -> UNDP | J31: =Table3[[#This Row],[Date of initiating procurement (Tender Issuence) ]] -> 46631 | K31: =Table3[[#This Row],[Estimated contract start date]] -> 46722 | L31: =Table3[[#This Row],[Remarks]] -> Budget Note AB
A32: =Table3[[#This Row],[No]] -> 9 | B32: =Table3[[#This Row],[Status]] -> Revised1
A33: =Table3[[#This Row],[No]] -> 9 | B33: =Table3[[#This Row],[Status]] -> Actual
A34: =Table3[[#This Row],[No]] -> 10 | B34: =Table3[[#This Row],[Status]] -> Planned | C34: =Table3[[#This Row],[Item Description ]] -> Audit Company | D34: =Table3[[#This Row],[Category ]] -> Consulting Services (Professional Firms) | E34: =Table3[[#This Row],[Estimated Cost (US$)]] -> 16000 | F34: =Table3[[#This Row],[Current Estimated Cost (please indicate latest estimated/actual cost) ]] -> 0 | G34: =Table3[[#This Row],[Procurement Method (e.g. open, limited RFP,ITB,RFQ) ]] -> Open tender | H34: =Table3[[#This Row],[Thresholds as per applicable procurement policy (Min-Max monetary value for which indicated procurement method must be used)]] -> USD 10,000 and above | I34: =Table3[[#This Row],[Name of Entity executing Procurement (DP/EE, etc.) ]] -> UNDP | J34: =Table3[[#This Row],[Date of initiating procurement (Tender Issuence) ]] -> 45901 | K34: =Table3[[#This Row],[Estimated contract start date]] -> 45992 | L34: =Table3[[#This Row],[Remarks]] -> Budget Note AL
A35: =Table3[[#This Row],[No]] -> 10 | B35: =Table3[[#This Row],[Status]] -> Revised1
A36: =Table3[[#This Row],[No]] -> 10 | B36: =Table3[[#This Row],[Status]] -> Actual
A37: =Table3[[#This Row],[No]] -> 11 | B37: =Table3[[#This Row],[Status]] -> Planned | C37: =Table3[[#This Row],[Item Description ]] -> Institutional Coordination and Capacity Enhancement Coordinator | D37: =Table3[[#This Row],[Category ]] -> Consulting Services (Individual Consultants) | E37: =Table3[[#This Row],[Estimated Cost (US$)]] -> 96000 | F37: =Table3[[#This Row],[Current Estimated Cost (please indicate latest estimated/actual cost) ]] -> 0 | G37: =Table3[[#This Row],[Procurement Method (e.g. open, limited RFP,ITB,RFQ) ]] -> Open tender | H37: =Table3[[#This Row],[Thresholds as per applicable procurement policy (Min-Max monetary value for which indicated procurement method must be used)]] -> USD 10,000 and above | I37: =Table3[[#This Row],[Name of Entity executing Procurement (DP/EE, etc.) ]] -> UNDP | J37: =Table3[[#This Row],[Date of initiating procurement (Tender Issuence) ]] -> 45901 | K37: =Table3[[#This Row],[Estimated contract start date]] -> 45992 | L37: =Table3[[#This Row],[Remarks]] -> Budget Note I
A38: =Table3[[#This Row],[No]] -> 11 | B38: =Table3[[#This Row],[Status]] -> Revised1
A39: =Table3[[#This Row],[No]] -> 11 | B39: =Table3[[#This Row],[Status]] -> Actual
A40: =Table3[[#This Row],[No]] -> 12 | B40: =Table3[[#This Row],[Status]] -> Planned | C40: =Table3[[#This Row],[Item Description ]] -> Community Engagement and Awareness Raising Expert | D40: =Table3[[#This Row],[Category ]] -> Consulting Services (Individual Consultants) | E40: =Table3[[#This Row],[Estimated Cost (US$)]] -> 108000 | F40: =Table3[[#This Row],[Current Estimated Cost (please indicate latest estimated/actual cost) ]] -> 0 | G40: =Table3[[#This Row],[Procurement Method (e.g. open, limited RFP,ITB,RFQ) ]] -> Open tender | H40: =Table3[[#This Row],[Thresholds as per applicable procurement policy (Min-Max monetary value for which indicated procurement method must be used)]] -> USD 150,000 and above | I40: =Table3[[#This Row],[Name of Entity executing Procurement (DP/EE, etc.) ]] -> UNDP | J40: =Table3[[#This Row],[Date of initiating procurement (Tender Issuence) ]] -> 45901 | K40: =Table3[[#This Row],[Estimated contract start date]] -> 45992 | L40: =Table3[[#This Row],[Remarks]] -> Budget Note O
A41: =Table3[[#This Row],[No]] -> 12 | B41: =Table3[[#This Row],[Status]] -> Revised1
...

Sheet 6.3 HR plan
A1: 6.3 Human Resources (HR) Plan
A2: For staff to be employed for the duration of the grant.
A3: Please use examples in the table below, and remove them before indicating proposal's requirements.
A4: Item | B4: Item Description | D4: Estimated Cost (US$) | E4: Recruitment Method | G4: Thresholds as per applicaple policy (if any) | I4: Name of Entity executing recruitment (DP/EE, etc.) | J4: Date of initiating recruitment | M4: Estimated contract start date
A6: NAP Project Manager (Budget Note AI) | B6: Full time project manager | D6: 86400 | E6: HR process (open advertisement) | G6: above 10,000 | I6: UNDP | J6: 45901 | M6: 45931
A7: Finance and Operations Analyst (Budget Note AJ) | B7: Full time finance and operations associate | D7: 72000 | E7: HR process (open advertisement) | G7: above 10,000 | I7: UNDP | J7: 45901 | M7: 45931
A8: ME& Analyst (Budget Note AK) | B8: Part-time M&E expert | D8: 18000 | E8: HR process (open advertisement) | G8: above 10,000 | I8: UNDP | J8: 45901 | M8: 45931
A9: Sub-Total (US$) | D9: =SUM(D6:D8) -> 176400

Sheet 6.4 Implementation Plan
A1: 6.3 Implementation Plan
A2: Column B: Please list all output codes the proposed proposal aims to achieve (e.g., 1.2.1 or 2.1.3., etc.)
A3: Column C: Please indicate the month number in which the output will start the implementation (e.g., month 3 = 3)
A4: Column D: Please indicate the month number in which the output will finish the implementation (e.g., month 9 = 9)
A5: Column E: The duration of the implementation for each output will appear automatically using the formula (C-D); therefore, it is not expected for editing.
A6: Column F: Dependency output(s): If the output listed is depending on other output(s), please list those outputs respectively; otherwise, please type "none"
A8: Please check out the example in the table below, and remove them before including the proposal's entries
A10: Output | B10: Start Date (Month#) | C10: End date (Month#) | D10: Implementation period (Months) | E10: Interdependency output(s)
A11: Output 3.1.1 - National and local adaptation plans are updated and sectoral adaptation plans developed | B11: 3 | C11: 12 | D11: =SUM(C11-B11) -> 9 | E11: Deliverable 3.1.1a Deliverable 3.1.1b Deliverable 3.1.1c Deliverable 3.1.1d Deliverable 3.1.1e
A12: Output 3.1.2 - Adaptation policies and regulations for sectorial integration are developed and stregthened | B12: 3 | C12: 12 | D12: =SUM(C12-B12) -> 9 | E12: Deliverable 3.1.2a Deliverable 3.1.2b Deliverable 3.1.2c Deliverable 3.1.2d Deliverable 3.1.2e
A13: Output 3.1.3 - Inter- and intra-institutional coordination and decision-making mechanisms strengthened | B13: 3 | C13: 12 | D13: =SUM(C13-B13) -> 9 | E13: Deliverable 3.1.3a Deliverable 3.1.3b Deliverable 3.1.3c Deliverable 3.1.3d Deliverable 3.1.3e Deliverable 3.1.3f
A14: Output 3.1.4 - Stakeholder engagement frameworks are enhanced and awareness raising activities conducted | B14: 13 | C14: 24 | D14: =SUM(C14-B14) -> 11 | E14: Deliverable 3.1.3e
A15: Output 3.2.1 - Adaptation impact Monitoring, Evaluation and Learning (MEL) Systems are Established or Stregthened | B15: 13 | C15: 24 | D15: =SUM(C15-B15) -> 11 | E15: Deliverable 3.2.1b Deliverable 3.2.1d Deliverable 3.2.1e Deliverable 3.2.1c Deliverable 3.2.1d
A16: Output 3.2.2 - Climate vulnerability studies are conducted and adaptation solutions identified | B16: 13 | C16: 24 | D16: =SUM(C16-B16) -> 11 | E16: Deliverable 3.2.2a Deliverable 3.2.2b Deliverable 3.2.1c Deliverable 3.2.1d
A17: Output 3.3.1 - Strategies, policies and incentives to foster private investment in adaptation solutions are developed | B17: 13 | C17: 24 | D17: =SUM(C17-B17) -> 11 | E17: Deliverable 3.3.1a Deliverable 3.3.1b Deliverable 3.2.1c
A18: Output 3.3.2 - Knowledge products to inform the private sector on adaptation options and GCF financing are developed | B18: 13 | C18: 24 | D18: =SUM(C18-B18) -> 11 | E18: Deliverable 3.3.2a Deliverable 3.3.2b Deliverable 3.2.2c
A19: Output 3.3.3 - Capacity-building for the private sector on adaptation options is provided | B19: 25 | C19: 36 | D19: =SUM(C19-B19) -> 11 | E19: Deliverable 3.3.3a Deliverable 3.3.3b Deliverable 3.3.3c
A20: Output 3.4.1 - Mechanisms to prioritize adaptation options based on objective criteria established | B20: 25 | C20: 36 | D20: =SUM(C20-B20) -> 11 | E20: Deliverable 3.4.1a Deliverable 3.4.1b Deliverable 3.4.1c
A21: Output 3.4.2 - Concept Notes, pre-feasibility studies and impact assessments for priority adaptation actions are developed | B21: 30 | C21: 42 | D21: =SUM(C21-B21) -> 12 | E21: Deliverable 3.4.3
A22: Output 3.4.4 - National systems for tracking adaptation finance flows developed | B22: 32 | C22: 46 | D22: =SUM(C22-B22) -> 14 | E22: Deliverable 3.4.4
